BEGIN:VCALENDAR
VERSION:2.0
PRODID:-//Immaculata University - ECPv6.15.20//NONSGML v1.0//EN
CALSCALE:GREGORIAN
METHOD:PUBLISH
X-WR-CALNAME:Immaculata University
X-ORIGINAL-URL:https://www.immaculata.edu
X-WR-CALDESC:Events for Immaculata University
REFRESH-INTERVAL;VALUE=DURATION:PT1H
X-Robots-Tag:noindex
X-PUBLISHED-TTL:PT1H
BEGIN:VTIMEZONE
TZID:America/New_York
BEGIN:DAYLIGHT
TZOFFSETFROM:-0500
TZOFFSETTO:-0400
TZNAME:EDT
DTSTART:20250309T070000
END:DAYLIGHT
BEGIN:STANDARD
TZOFFSETFROM:-0400
TZOFFSETTO:-0500
TZNAME:EST
DTSTART:20251102T060000
END:STANDARD
BEGIN:DAYLIGHT
TZOFFSETFROM:-0500
TZOFFSETTO:-0400
TZNAME:EDT
DTSTART:20260308T070000
END:DAYLIGHT
BEGIN:STANDARD
TZOFFSETFROM:-0400
TZOFFSETTO:-0500
TZNAME:EST
DTSTART:20261101T060000
END:STANDARD
BEGIN:DAYLIGHT
TZOFFSETFROM:-0500
TZOFFSETTO:-0400
TZNAME:EDT
DTSTART:20270314T070000
END:DAYLIGHT
BEGIN:STANDARD
TZOFFSETFROM:-0400
TZOFFSETTO:-0500
TZNAME:EST
DTSTART:20271107T060000
END:STANDARD
END:VTIMEZONE
BEGIN:VEVENT
DTSTART;TZID=America/New_York:20260422T180000
DTEND;TZID=America/New_York:20260422T200000
DTSTAMP:20260423T075011
CREATED:20260416T112549Z
LAST-MODIFIED:20260416T112549Z
UID:10001033-1776880800-1776888000@www.immaculata.edu
SUMMARY:Campus Ministry Community Night: Students vs. Sisters Lawn Games
DESCRIPTION:Join us on for a BBQ dinner in Campus Ministry followed by lawn games on Back Campus! \nDinner will be at 6 p.m.\, followed by lawn games around 6:45 p.m. Hope to see you there!
URL:https://www.immaculata.edu/event/campus-ministry-community-night-students-vs-sisters-lawn-games/
LOCATION:Campus Ministry
CATEGORIES:On Campus
ATTACH;FMTTYPE=image/jpeg:https://www.immaculata.edu/wp-content/uploads/2026/04/Students-vs-Sisters-Lawn-Games-2026.jpg
END:VEVENT
BEGIN:VEVENT
DTSTART;TZID=America/New_York:20260420T143000
DTEND;TZID=America/New_York:20260420T163000
DTSTAMP:20260423T075011
CREATED:20260416T165606Z
LAST-MODIFIED:20260416T165606Z
UID:10001037-1776695400-1776702600@www.immaculata.edu
SUMMARY:Blind Date with a Book!
DESCRIPTION:Take a chance on your next favorite read\, join us for a Blind Date with a Book and discover something new!
URL:https://www.immaculata.edu/event/blind-date-with-a-book/
LOCATION:Immaculata University Nazareth Dining Hall
CATEGORIES:On Campus
ATTACH;FMTTYPE=image/jpeg:https://www.immaculata.edu/wp-content/uploads/2026/04/Blind-Date-with-a-Book-IG.jpg
GEO:40.0290995678;-75.5695798758
END:VEVENT
BEGIN:VEVENT
DTSTART;TZID=America/New_York:20260420T120000
DTEND;TZID=America/New_York:20260420T140000
DTSTAMP:20260423T075011
CREATED:20260327T190749Z
LAST-MODIFIED:20260327T190749Z
UID:10001008-1776686400-1776693600@www.immaculata.edu
SUMMARY:Pet Therapy
DESCRIPTION:Please join us for Pet Therapy. \nCome enjoy some fresh air and relax with your fury friends! \nBruder Center Lawn\nRain Location Terrace Rotunda \nHosted by Student Wellness
URL:https://www.immaculata.edu/event/pet-therapy-13/
LOCATION:Bruder Center Lawn\, Immaculata\, PA\, United States
CATEGORIES:On Campus
ATTACH;FMTTYPE=image/jpeg:https://www.immaculata.edu/wp-content/uploads/2026/03/spring-pet-Therapy.jpg
ORGANIZER;CN="student wellness":MAILTO:ssherry@ immaculata.edu
END:VEVENT
BEGIN:VEVENT
DTSTART;TZID=America/New_York:20260420T110000
DTEND;TZID=America/New_York:20260420T130000
DTSTAMP:20260423T075011
CREATED:20260317T173114Z
LAST-MODIFIED:20260401T173317Z
UID:10000999-1776682800-1776690000@www.immaculata.edu
SUMMARY:Posters Under The Dome 2026
DESCRIPTION:Immaculata University is pleased to present undergraduate research with our Posters Under the Dome symposium. Our students\, from many academic departments\, have worked collaboratively with faculty members to conduct research\, analyze data\, prepare posters and prepare presentations for review. These student researchers are ready to engage in a question-and-answer portion of their work after presenting their research. \nPosters will be presented in Villa Maria. View the abstracts. \nFor more information contact:\nVeronica Cardiellos\, Graduate Assistant at osraradassist@mail.immaculata.edu
URL:https://www.immaculata.edu/event/posters-under-the-dome-2026/
LOCATION:Immaculata University Rotunda\, Villa Maria Hall
CATEGORIES:Academics,On Campus
ATTACH;FMTTYPE=image/jpeg:https://www.immaculata.edu/wp-content/uploads/2024/09/posters-under-the-dome.jpg
END:VEVENT
BEGIN:VEVENT
DTSTART;TZID=America/New_York:20260418T170000
DTEND;TZID=America/New_York:20260418T190000
DTSTAMP:20260423T075011
CREATED:20260408T191529Z
LAST-MODIFIED:20260408T191529Z
UID:10001014-1776531600-1776538800@www.immaculata.edu
SUMMARY:Block Party
DESCRIPTION:Sun\, smiles\, and end-of-semester vibes. Join Student Life for a Block Party you won’t want to miss!
URL:https://www.immaculata.edu/event/block-party-3/
LOCATION:Immaculata University Back Campus
CATEGORIES:On Campus
ATTACH;FMTTYPE=image/jpeg:https://www.immaculata.edu/wp-content/uploads/2026/04/Untitled-design.jpg
GEO:40.0292482071;-75.5687282729
END:VEVENT
BEGIN:VEVENT
DTSTART;TZID=America/New_York:20260415T190000
DTEND;TZID=America/New_York:20260415T213000
DTSTAMP:20260423T075011
CREATED:20260409T171504Z
LAST-MODIFIED:20260409T171504Z
UID:10001021-1776279600-1776288600@www.immaculata.edu
SUMMARY:Campus Ministry Community Night - Outdoor Movie: Wicked For Good
DESCRIPTION:Join us on to watch Wicked For Good! Popcorn and candy will be provided. \nPlease bring a chair or blanket. Hope you can join us!
URL:https://www.immaculata.edu/event/campus-ministry-community-night-outdoor-movie-wicked-for-good/
LOCATION:Immaculata University Back Campus
CATEGORIES:On Campus
ATTACH;FMTTYPE=image/jpeg:https://www.immaculata.edu/wp-content/uploads/2026/04/Wicked-for-Good-Community-Night.jpg
GEO:40.0292482071;-75.5687282729
END:VEVENT
BEGIN:VEVENT
DTSTART;TZID=America/New_York:20260414T100000
DTEND;TZID=America/New_York:20260414T120000
DTSTAMP:20260423T075011
CREATED:20260407T181326Z
LAST-MODIFIED:20260407T181326Z
UID:10001013-1776160800-1776168000@www.immaculata.edu
SUMMARY:Movie Screening: Temple Grandin
DESCRIPTION:The 2010 biographical drama stars Claire Danes as Temple Grandin\, an autistic woman whose innovations revolutionized practices for the humane handling of livestock on cattle ranches and slaughterhouses.
URL:https://www.immaculata.edu/event/movie-screening-temple-grandin/
LOCATION:Immaculata University Alumnae Hall Theater
CATEGORIES:On Campus
ATTACH;FMTTYPE=image/jpeg:https://www.immaculata.edu/wp-content/uploads/2026/04/templegrandin.jpg
GEO:40.0280909449;-75.57085477
END:VEVENT
BEGIN:VEVENT
DTSTART;TZID=America/New_York:20260414T090000
DTEND;TZID=America/New_York:20260414T110000
DTSTAMP:20260423T075011
CREATED:20260331T114906Z
LAST-MODIFIED:20260331T114906Z
UID:10001009-1776157200-1776164400@www.immaculata.edu
SUMMARY:Office of Career and Professional Development Table Event
DESCRIPTION:Stop by our table in Loyola Hall Foyer to hear about our services and how we can assist you. \nAre you graduating in May? This is the perfect opportunity to make an appointment before your special day. \nFor more information email careerdevelopment@immaculata.edu.
URL:https://www.immaculata.edu/event/office-of-career-and-professional-development-table-event/
LOCATION:Immaculata University Loyola Hall\, Immaculata\, PA\, 19345
CATEGORIES:On Campus
GEO:40.0289259175;-75.5716814181
END:VEVENT
BEGIN:VEVENT
DTSTART;TZID=America/New_York:20260413T190000
DTEND;TZID=America/New_York:20260413T210000
DTSTAMP:20260423T075011
CREATED:20260317T113850Z
LAST-MODIFIED:20260317T113850Z
UID:10000997-1776106800-1776114000@www.immaculata.edu
SUMMARY:IU Talent Show
DESCRIPTION:Come show off your talents at Immacapella’s annual Talent Show! You can sing\, dance\, act\, do stand up comedy\, and more! There will be special guest judges that will choose a 1st\, 2nd\, and 3rd place winner along with a Judge’s Choice. \nThere will be a $2 entry fee with an additional $1 for snacks at intermission! \nSign up now! All school appropriate acts are welcome!
URL:https://www.immaculata.edu/event/iu-talent-show/
LOCATION:Immaculata University Memorial Hall
CATEGORIES:On Campus
ATTACH;FMTTYPE=image/jpeg:https://www.immaculata.edu/wp-content/uploads/2026/03/Talent-Show.jpg
END:VEVENT
BEGIN:VEVENT
DTSTART;TZID=America/New_York:20260411T190000
DTEND;TZID=America/New_York:20260411T210000
DTSTAMP:20260423T075011
CREATED:20250826T200038Z
LAST-MODIFIED:20250826T200038Z
UID:10000760-1775934000-1775941200@www.immaculata.edu
SUMMARY:Immaculata Symphony Spring Concert
DESCRIPTION:“America 250” \nThis year our nation will commemorate the 250th anniversary of the signing of the Declaration of Independence. Celebrate this historic milestone with a concert of American works for orchestra and choir. Featuring an Honors Choir of the top high school students from all around Chester County\, the Immaculata Symphony performs this celebratory concert to kick off the United States Semiquincentennial. \nFanfare for the Common Man – Aaron Copland\nNovember Valedictory – Thomas Albert\nI Hear America Singing – Andre Thomas\nSogno di Volare – Christopher Tin\nHymn to the Fallen – John Williams\nBattle Hymn of the Republic – Peter Wilhous\nand more! \nGENERAL ADMISSION: $15\nSENIORS: $12\nStudents and children are free at all concerts.
URL:https://www.immaculata.edu/event/immaculata-symphony-spring-concert-3/
LOCATION:Immaculata University Alumnae Hall Theater
CATEGORIES:On Campus
ATTACH;FMTTYPE=image/jpeg:https://www.immaculata.edu/wp-content/uploads/2023/11/immaculata-symphony.jpg
GEO:40.0280909449;-75.57085477
END:VEVENT
BEGIN:VEVENT
DTSTART;TZID=America/New_York:20260408T180000
DTEND;TZID=America/New_York:20260408T200000
DTSTAMP:20260423T075011
CREATED:20260401T181730Z
LAST-MODIFIED:20260401T181837Z
UID:10001010-1775671200-1775678400@www.immaculata.edu
SUMMARY:Campus Ministry & Mighty Muse Community Night: Music Bingo and Karaoke!
DESCRIPTION:Join Campus Ministry and Mighty Muse for a fun night! Dinner will be at 6 p.m. followed by music bingo and karaoke. Hope you can join us!
URL:https://www.immaculata.edu/event/campus-ministry-mighty-muse-community-night-music-bingo-and-karaoke/
LOCATION:Campus Ministry
CATEGORIES:On Campus
ATTACH;FMTTYPE=image/jpeg:https://www.immaculata.edu/wp-content/uploads/2026/04/Community-Night-48.jpg
END:VEVENT
BEGIN:VEVENT
DTSTART;TZID=America/New_York:20260408T140000
DTEND;TZID=America/New_York:20260408T163000
DTSTAMP:20260423T075011
CREATED:20260213T182150Z
LAST-MODIFIED:20260213T182150Z
UID:10000973-1775656800-1775665800@www.immaculata.edu
SUMMARY:Culture Fest
DESCRIPTION:Celebrate the diverse cultures of Immaculata University at our annual Culture Fest. Students\, faculty\, and staff are invited to host a table and share a culture through food\, music\, clothing\, and traditions. Whether highlighting your own heritage or a culture you admire\, your participation fosters connection\, conversation\, and community across campus.
URL:https://www.immaculata.edu/event/culture-fest-2/
LOCATION:Immaculata University Back Campus
CATEGORIES:On Campus
ATTACH;FMTTYPE=image/jpeg:https://www.immaculata.edu/wp-content/uploads/2026/02/Culture-Fest-Flyers.jpg
ORGANIZER;CN="Diversity%2C Equity%2C &amp%3B Inclusion":MAILTO:DEI_AOD_GA@immaculata.edu
GEO:40.0292482071;-75.5687282729
END:VEVENT
BEGIN:VEVENT
DTSTART;TZID=America/New_York:20260331T110000
DTEND;TZID=America/New_York:20260331T160000
DTSTAMP:20260423T075011
CREATED:20260320T171333Z
LAST-MODIFIED:20260320T171333Z
UID:10001003-1774954800-1774972800@www.immaculata.edu
SUMMARY:Red Cross Blood Drive
DESCRIPTION:Faculty Center Lounge \nHosted by IU Student Nurses Association and Student Health Services \nSign up here.
URL:https://www.immaculata.edu/event/red-cross-blood-drive/
LOCATION:Immaculata University Faculty Center
CATEGORIES:On Campus
ATTACH;FMTTYPE=image/jpeg:https://www.immaculata.edu/wp-content/uploads/2026/03/Give-from-the-heart-Donate-blood.jpg
GEO:40.0286375949;-75.570250994
END:VEVENT
BEGIN:VEVENT
DTSTART;TZID=America/New_York:20260330T140000
DTEND;TZID=America/New_York:20260330T151500
DTSTAMP:20260423T075011
CREATED:20260319T182021Z
LAST-MODIFIED:20260319T182021Z
UID:10001001-1774879200-1774883700@www.immaculata.edu
SUMMARY:Spring Diamond Art Magnets!
DESCRIPTION:Make your own spring diamond art magnet! Stop by Terrace Rotunda from 2 p.m.-3:15 p.m. on Monday\, March 30 and get creative!
URL:https://www.immaculata.edu/event/spring-diamond-art-magnets/
LOCATION:Terrace Rotunda
CATEGORIES:On Campus
ATTACH;FMTTYPE=image/jpeg:https://www.immaculata.edu/wp-content/uploads/2026/03/Spring-Diamond-Art-Magnets-IG.jpg
END:VEVENT
BEGIN:VEVENT
DTSTART;TZID=America/New_York:20260329T150000
DTEND;TZID=America/New_York:20260329T173000
DTSTAMP:20260423T075011
CREATED:20260212T194106Z
LAST-MODIFIED:20260310T114348Z
UID:10000970-1774796400-1774805400@www.immaculata.edu
SUMMARY:Cue & Curtain Production of "Sister Act"
DESCRIPTION:In this musical\, a woman hiding in convent helps her fellow sisters find their voices as she rediscovers her own. \nPERFORMANCES \n\nFriday\, March 27th 10 a.m. & 7 p.m.\nSaturday\, March 28th 7 p.m.\nSunday\, March 29th 3 p.m.\n\nTICKETS \n$15 General Admission\, $10 Seniors (62+) and Students\, $0 IU Students \nPurchase tickets now.
URL:https://www.immaculata.edu/event/cue-curtain-production-of-sister-act/2026-03-29/
LOCATION:Alumnae Hall
CATEGORIES:On Campus
ATTACH;FMTTYPE=image/jpeg:https://www.immaculata.edu/wp-content/uploads/2026/02/Sister-Act.jpg
ORGANIZER;CN="Dr. Kelly Gebhardt or Cue &amp%3B Curtain Theatre":MAILTO:cctheatre@immaculata.edu
END:VEVENT
BEGIN:VEVENT
DTSTART;TZID=America/New_York:20260328T190000
DTEND;TZID=America/New_York:20260328T213000
DTSTAMP:20260423T075011
CREATED:20260212T194106Z
LAST-MODIFIED:20260310T114348Z
UID:10000969-1774724400-1774733400@www.immaculata.edu
SUMMARY:Cue & Curtain Production of "Sister Act"
DESCRIPTION:In this musical\, a woman hiding in convent helps her fellow sisters find their voices as she rediscovers her own. \nPERFORMANCES \n\nFriday\, March 27th 10 a.m. & 7 p.m.\nSaturday\, March 28th 7 p.m.\nSunday\, March 29th 3 p.m.\n\nTICKETS \n$15 General Admission\, $10 Seniors (62+) and Students\, $0 IU Students \nPurchase tickets now.
URL:https://www.immaculata.edu/event/cue-curtain-production-of-sister-act/2026-03-28/
LOCATION:Alumnae Hall
CATEGORIES:On Campus
ATTACH;FMTTYPE=image/jpeg:https://www.immaculata.edu/wp-content/uploads/2026/02/Sister-Act.jpg
ORGANIZER;CN="Dr. Kelly Gebhardt or Cue &amp%3B Curtain Theatre":MAILTO:cctheatre@immaculata.edu
END:VEVENT
BEGIN:VEVENT
DTSTART;TZID=America/New_York:20260327T190000
DTEND;TZID=America/New_York:20260327T213000
DTSTAMP:20260423T075011
CREATED:20260212T194106Z
LAST-MODIFIED:20260310T114348Z
UID:10000972-1774638000-1774647000@www.immaculata.edu
SUMMARY:Cue & Curtain Production of "Sister Act"
DESCRIPTION:In this musical\, a woman hiding in convent helps her fellow sisters find their voices as she rediscovers her own. \nPERFORMANCES \n\nFriday\, March 27th 10 a.m. & 7 p.m.\nSaturday\, March 28th 7 p.m.\nSunday\, March 29th 3 p.m.\n\nTICKETS \n$15 General Admission\, $10 Seniors (62+) and Students\, $0 IU Students \nPurchase tickets now.
URL:https://www.immaculata.edu/event/cue-curtain-production-of-sister-act/2026-03-27/6/
LOCATION:Alumnae Hall
CATEGORIES:On Campus
ATTACH;FMTTYPE=image/jpeg:https://www.immaculata.edu/wp-content/uploads/2026/02/Sister-Act.jpg
ORGANIZER;CN="Dr. Kelly Gebhardt or Cue &amp%3B Curtain Theatre":MAILTO:cctheatre@immaculata.edu
END:VEVENT
BEGIN:VEVENT
DTSTART;TZID=America/New_York:20260327T100000
DTEND;TZID=America/New_York:20260327T123000
DTSTAMP:20260423T075011
CREATED:20260212T194106Z
LAST-MODIFIED:20260310T114348Z
UID:10000968-1774605600-1774614600@www.immaculata.edu
SUMMARY:Cue & Curtain Production of "Sister Act"
DESCRIPTION:In this musical\, a woman hiding in convent helps her fellow sisters find their voices as she rediscovers her own. \nPERFORMANCES \n\nFriday\, March 27th 10 a.m. & 7 p.m.\nSaturday\, March 28th 7 p.m.\nSunday\, March 29th 3 p.m.\n\nTICKETS \n$15 General Admission\, $10 Seniors (62+) and Students\, $0 IU Students \nPurchase tickets now.
URL:https://www.immaculata.edu/event/cue-curtain-production-of-sister-act/2026-03-27/5/
LOCATION:Alumnae Hall
CATEGORIES:On Campus
ATTACH;FMTTYPE=image/jpeg:https://www.immaculata.edu/wp-content/uploads/2026/02/Sister-Act.jpg
ORGANIZER;CN="Dr. Kelly Gebhardt or Cue &amp%3B Curtain Theatre":MAILTO:cctheatre@immaculata.edu
END:VEVENT
BEGIN:VEVENT
DTSTART;TZID=America/New_York:20260325T180000
DTEND;TZID=America/New_York:20260325T193000
DTSTAMP:20260423T075011
CREATED:20260319T140321Z
LAST-MODIFIED:20260319T140321Z
UID:10001000-1774461600-1774467000@www.immaculata.edu
SUMMARY:Campus Ministry & Macs Respect Life Community Night
DESCRIPTION:Join us for our weekly community night! \nDinner will be at 6 p.m. followed by a guest speaker from Birthright in West Chester\, a local pregnancy resource center. Hope you can join us for a great evening!
URL:https://www.immaculata.edu/event/campus-ministry-macs-respect-life-community-night/
LOCATION:Campus Ministry
CATEGORIES:On Campus
END:VEVENT
BEGIN:VEVENT
DTSTART;TZID=America/New_York:20260325T110000
DTEND;TZID=America/New_York:20260325T150000
DTSTAMP:20260423T075011
CREATED:20260313T133547Z
LAST-MODIFIED:20260313T133547Z
UID:10000994-1774436400-1774450800@www.immaculata.edu
SUMMARY:Campus Ministry Spring Open House
DESCRIPTION:All faculty\, staff\, and students are welcome to join us for Campus Ministry’s Spring Open House. \nCome by for a bite to eat\, to say hello\, and celebrate Mary’s yes on this Feast of the Annunciation!
URL:https://www.immaculata.edu/event/campus-ministry-spring-open-house/
CATEGORIES:On Campus
ATTACH;FMTTYPE=image/jpeg:https://www.immaculata.edu/wp-content/uploads/2026/03/Campus-Ministry-Spring-Open-House.jpg
END:VEVENT
BEGIN:VEVENT
DTSTART;TZID=America/New_York:20260321T180000
DTEND;TZID=America/New_York:20260321T200000
DTSTAMP:20260423T075011
CREATED:20260123T144634Z
LAST-MODIFIED:20260123T144634Z
UID:10000944-1774116000-1774123200@www.immaculata.edu
SUMMARY:2026 Immaculata University Fashion Show
DESCRIPTION:The Immaculata University Fashion Merchandising Department invites you to the 2026 IU Fashion Show\, an exciting evening that celebrates creativity\, innovation and professional fashion practice. \nThis annual event highlights the talent of Immaculata fashion merchandising students while showcasing the work of local designers\, boutiques\, and industry professionals. Join us to see innovative designs and explore cutting-edge fashion trends\, learn about fashion merchandising at IU and connect with local vendors. \nLearn more and register here.
URL:https://www.immaculata.edu/event/2026-immaculata-university-fashion-show/
LOCATION:Immaculata University Great Hall
CATEGORIES:On Campus
ATTACH;FMTTYPE=image/jpeg:https://www.immaculata.edu/wp-content/uploads/2026/01/FAS_2026-Fashion-Show-Event-Image.jpg
GEO:40.029913002;-75.5682580465
END:VEVENT
BEGIN:VEVENT
DTSTART;TZID=America/New_York:20260319T130000
DTEND;TZID=America/New_York:20260319T150000
DTSTAMP:20260423T075011
CREATED:20260305T141326Z
LAST-MODIFIED:20260305T141326Z
UID:10000990-1773925200-1773932400@www.immaculata.edu
SUMMARY:Career Development Table Event
DESCRIPTION:Office of Career and Professional Development – Table Event\nLoyola Hall Foyer \nStop by our table anytime to hear about our services and how we can assist you. \nAre you graduating in May? This is the perfect opportunity to make an appointment before your special day! \nFor more information\, email careerdevelopment@immaculata.edu.
URL:https://www.immaculata.edu/event/career-development-table-event/
LOCATION:Immaculata University Loyola Hall\, Immaculata\, PA\, 19345
CATEGORIES:On Campus
GEO:40.0289259175;-75.5716814181
END:VEVENT
BEGIN:VEVENT
DTSTART;TZID=America/New_York:20260319T120000
DTEND;TZID=America/New_York:20260319T140000
DTSTAMP:20260423T075011
CREATED:20260226T200600Z
LAST-MODIFIED:20260226T200600Z
UID:10000983-1773921600-1773928800@www.immaculata.edu
SUMMARY:Pet Therapy
DESCRIPTION:Come feel the love of your furry friends. \nHosted by Student Wellness.
URL:https://www.immaculata.edu/event/pet-therapy-12/
LOCATION:Terrace Rotunda
CATEGORIES:On Campus
ATTACH;FMTTYPE=image/jpeg:https://www.immaculata.edu/wp-content/uploads/2026/02/st-pattys-pet-Therapy-2.jpg
ORGANIZER;CN="student wellness":MAILTO:ssherry@ immaculata.edu
END:VEVENT
BEGIN:VEVENT
DTSTART;TZID=America/New_York:20260318T180000
DTEND;TZID=America/New_York:20260318T200000
DTSTAMP:20260423T075011
CREATED:20260313T133246Z
LAST-MODIFIED:20260313T133246Z
UID:10000993-1773856800-1773864000@www.immaculata.edu
SUMMARY:Campus Ministry Community Night: Carnival
DESCRIPTION:Join us for Campus Ministry’s first ever Carnival benefitting Catholic Relief Services’ Rice Bowl campaign. Stop by for some Mario Kart on the Wii\, lawn games\, board games\, and all of your favorite carnival foods! \nAdmission is $5 which can be paid with cash or card. \nHope you can join us!
URL:https://www.immaculata.edu/event/campus-ministry-community-night-carnival/
LOCATION:Campus Ministry
CATEGORIES:On Campus
ATTACH;FMTTYPE=image/jpeg:https://www.immaculata.edu/wp-content/uploads/2026/03/Community-Night-318-Game-Night.jpg
END:VEVENT
BEGIN:VEVENT
DTSTART;TZID=America/New_York:20260318T090000
DTEND;TZID=America/New_York:20260318T104500
DTSTAMP:20260423T075011
CREATED:20260303T132243Z
LAST-MODIFIED:20260303T132243Z
UID:10000986-1773824400-1773830700@www.immaculata.edu
SUMMARY:Grab & Go Brew!
DESCRIPTION:Stop by on your way to class to enjoy a free iced coffee brought to you by Student Life!
URL:https://www.immaculata.edu/event/grab-go-brew/
LOCATION:Immaculata University Loyola Hall\, Immaculata\, PA\, 19345
CATEGORIES:On Campus
ATTACH;FMTTYPE=image/jpeg:https://www.immaculata.edu/wp-content/uploads/2026/03/Grab-Go-Brew-IG.jpg
GEO:40.0289259175;-75.5716814181
END:VEVENT
BEGIN:VEVENT
DTSTART;TZID=America/New_York:20260317T150000
DTEND;TZID=America/New_York:20260317T170000
DTSTAMP:20260423T075011
CREATED:20260304T201800Z
LAST-MODIFIED:20260304T201800Z
UID:10000989-1773759600-1773766800@www.immaculata.edu
SUMMARY:Crochet Club Fundraiser
DESCRIPTION:Crochet Club is holding a fundraiser outside of the dining hall! \nLots of handmade crochet items will be for sale. All items are $5 or less! \nThere is also a raffle prize! 2 raffle tickets will $1.
URL:https://www.immaculata.edu/event/crochet-club-fundraiser/
LOCATION:Immaculata University Nazareth Dining Hall
CATEGORIES:On Campus
ATTACH;FMTTYPE=image/jpeg:https://www.immaculata.edu/wp-content/uploads/2026/03/crochet-club.jpg
GEO:40.0290995678;-75.5695798758
END:VEVENT
BEGIN:VEVENT
DTSTART;TZID=America/New_York:20260317T130000
DTEND;TZID=America/New_York:20260317T160000
DTSTAMP:20260423T075011
CREATED:20260313T133912Z
LAST-MODIFIED:20260313T133912Z
UID:10000995-1773752400-1773763200@www.immaculata.edu
SUMMARY:Blessed to me! Affirmation Bracelet Making
DESCRIPTION:Join the Bruder Center and Campus Ministry in Terrace Rotunda to make bracelets and reflect on the many blessings and gifts God has given us!
URL:https://www.immaculata.edu/event/blessed-to-me-affirmation-bracelet-making/
LOCATION:Terrace Rotunda
CATEGORIES:On Campus
ATTACH;FMTTYPE=image/jpeg:https://www.immaculata.edu/wp-content/uploads/2026/03/Bracelet-Making-Flyer.jpg
END:VEVENT
BEGIN:VEVENT
DTSTART;TZID=America/New_York:20260316T173000
DTEND;TZID=America/New_York:20260316T190000
DTSTAMP:20260423T075011
CREATED:20260313T200156Z
LAST-MODIFIED:20260313T200510Z
UID:10000996-1773682200-1773687600@www.immaculata.edu
SUMMARY:World Down Syndrome Tabling
DESCRIPTION:Activities\, Education\, and Giveaways. Wear your mismatched socks all week and post #LotsofSocks.
URL:https://www.immaculata.edu/event/world-down-syndrome-tabling/
LOCATION:Terrace Nazareth
CATEGORIES:On Campus
ATTACH;FMTTYPE=image/jpeg:https://www.immaculata.edu/wp-content/uploads/2026/03/WDSD-tabling-2026.jpg
ORGANIZER;CN="Diversity%2C Equity%2C &amp%3B Inclusion":MAILTO:DEI_AOD_GA@immaculata.edu
END:VEVENT
BEGIN:VEVENT
DTSTART;TZID=America/New_York:20260305T123000
DTEND;TZID=America/New_York:20260305T133000
DTSTAMP:20260423T075011
CREATED:20260227T132438Z
LAST-MODIFIED:20260227T132438Z
UID:10000985-1772713800-1772717400@www.immaculata.edu
SUMMARY:National Shirley Temple Day
DESCRIPTION:It’s almost National Shirley Temple Day! \nCome celebrate your love for Shirley Temples outside the dining hall.
URL:https://www.immaculata.edu/event/national-shirley-temple-day/
LOCATION:Immaculata University Nazareth Dining Hall
CATEGORIES:On Campus
ATTACH;FMTTYPE=image/jpeg:https://www.immaculata.edu/wp-content/uploads/2026/02/shirley-temple.jpg
GEO:40.0290995678;-75.5695798758
END:VEVENT
BEGIN:VEVENT
DTSTART;TZID=America/New_York:20260304T180000
DTEND;TZID=America/New_York:20260304T200000
DTSTAMP:20260423T075011
CREATED:20260226T203618Z
LAST-MODIFIED:20260226T203618Z
UID:10000984-1772647200-1772654400@www.immaculata.edu
SUMMARY:Campus Ministry Community Night: Fr. Mike Herlihey
DESCRIPTION:Join us for Community Night featuring a delicious dinner and our awesome guest speaker Fr. Mike Herlihey! Dinner will be served at 6 p.m.\, followed by Fr. Herlihey’s talk at 6:45 p.m. \nAll are welcome!
URL:https://www.immaculata.edu/event/campus-ministry-community-night-fr-mike-herlihey/
LOCATION:Campus Ministry
CATEGORIES:On Campus
END:VEVENT
END:VCALENDAR