BEGIN:VCALENDAR
VERSION:2.0
PRODID:-//Immaculata University - ECPv6.15.20//NONSGML v1.0//EN
CALSCALE:GREGORIAN
METHOD:PUBLISH
X-ORIGINAL-URL:https://www.immaculata.edu
X-WR-CALDESC:Events for Immaculata University
REFRESH-INTERVAL;VALUE=DURATION:PT1H
X-Robots-Tag:noindex
X-PUBLISHED-TTL:PT1H
BEGIN:VTIMEZONE
TZID:America/New_York
BEGIN:DAYLIGHT
TZOFFSETFROM:-0500
TZOFFSETTO:-0400
TZNAME:EDT
DTSTART:20250309T070000
END:DAYLIGHT
BEGIN:STANDARD
TZOFFSETFROM:-0400
TZOFFSETTO:-0500
TZNAME:EST
DTSTART:20251102T060000
END:STANDARD
BEGIN:DAYLIGHT
TZOFFSETFROM:-0500
TZOFFSETTO:-0400
TZNAME:EDT
DTSTART:20260308T070000
END:DAYLIGHT
BEGIN:STANDARD
TZOFFSETFROM:-0400
TZOFFSETTO:-0500
TZNAME:EST
DTSTART:20261101T060000
END:STANDARD
BEGIN:DAYLIGHT
TZOFFSETFROM:-0500
TZOFFSETTO:-0400
TZNAME:EDT
DTSTART:20270314T070000
END:DAYLIGHT
BEGIN:STANDARD
TZOFFSETFROM:-0400
TZOFFSETTO:-0500
TZNAME:EST
DTSTART:20271107T060000
END:STANDARD
END:VTIMEZONE
BEGIN:VEVENT
DTSTART;TZID=America/New_York:20260516T163000
DTEND;TZID=America/New_York:20260516T173000
DTSTAMP:20260423T073154
CREATED:20260408T185912Z
LAST-MODIFIED:20260408T185912Z
UID:10001015-1778949000-1778952600@www.immaculata.edu
SUMMARY:Baccalaureate Mass
DESCRIPTION:The Baccalaureate liturgy will take place in the Villa Maria House of Studies Chapel\, located at 1 Our Lady Circle (across the street from Immaculata University). Family and friends are welcome to attend\, and no tickets are required for Baccalaureate Mass. \nGraduates should wear academic attire. Priest and /or deacon relatives are welcome to assist at the Baccalaureate Liturgy. Graduates who have any Catholic clergy family members who will be attending the Mass should notify Sister Christina Marie Roberts  at 610-647-4400 ext. 3989 or croberts5@immaculata.edu by May 4\, 2026
URL:https://www.immaculata.edu/event/baccalaureate-mass/
LOCATION:Villa Maria House of Studies
CATEGORIES:On Campus
END:VEVENT
END:VCALENDAR