BEGIN:VCALENDAR
VERSION:2.0
PRODID:-//Immaculata University - ECPv6.15.20//NONSGML v1.0//EN
CALSCALE:GREGORIAN
METHOD:PUBLISH
X-WR-CALNAME:Immaculata University
X-ORIGINAL-URL:https://www.immaculata.edu
X-WR-CALDESC:Events for Immaculata University
REFRESH-INTERVAL;VALUE=DURATION:PT1H
X-Robots-Tag:noindex
X-PUBLISHED-TTL:PT1H
BEGIN:VTIMEZONE
TZID:America/New_York
BEGIN:DAYLIGHT
TZOFFSETFROM:-0500
TZOFFSETTO:-0400
TZNAME:EDT
DTSTART:20250309T070000
END:DAYLIGHT
BEGIN:STANDARD
TZOFFSETFROM:-0400
TZOFFSETTO:-0500
TZNAME:EST
DTSTART:20251102T060000
END:STANDARD
BEGIN:DAYLIGHT
TZOFFSETFROM:-0500
TZOFFSETTO:-0400
TZNAME:EDT
DTSTART:20260308T070000
END:DAYLIGHT
BEGIN:STANDARD
TZOFFSETFROM:-0400
TZOFFSETTO:-0500
TZNAME:EST
DTSTART:20261101T060000
END:STANDARD
BEGIN:DAYLIGHT
TZOFFSETFROM:-0500
TZOFFSETTO:-0400
TZNAME:EDT
DTSTART:20270314T070000
END:DAYLIGHT
BEGIN:STANDARD
TZOFFSETFROM:-0400
TZOFFSETTO:-0500
TZNAME:EST
DTSTART:20271107T060000
END:STANDARD
END:VTIMEZONE
BEGIN:VEVENT
DTSTART;TZID=America/New_York:20260429T083000
DTEND;TZID=America/New_York:20260429T100000
DTSTAMP:20260421T084921
CREATED:20260415T155949Z
LAST-MODIFIED:20260415T155949Z
UID:10001032-1777451400-1777456800@www.immaculata.edu
SUMMARY:DEI & IHM Seeking Common Ground Through Prayer
DESCRIPTION:Discover common ground through the power of conversation and prayer! Faith leaders from local communities will share a taste of their prayer practices and offer prayers of peace for all participants and our shared neighborhood. \nJoin us for breakfast to fuel meaningful connections and to better understand our neighbors in faith.
URL:https://www.immaculata.edu/event/dei-ihm-seeking-common-ground-through-prayer/
LOCATION:Immaculata University Nazareth Dining Hall
CATEGORIES:On Campus
ORGANIZER;CN="Diversity%2C Equity%2C &amp%3B Inclusion":MAILTO:DEI_AOD_GA@immaculata.edu
GEO:40.0290995678;-75.5695798758
END:VEVENT
END:VCALENDAR