BEGIN:VCALENDAR
VERSION:2.0
PRODID:-//Immaculata University - ECPv6.15.20//NONSGML v1.0//EN
CALSCALE:GREGORIAN
METHOD:PUBLISH
X-WR-CALNAME:Immaculata University
X-ORIGINAL-URL:https://www.immaculata.edu
X-WR-CALDESC:Events for Immaculata University
REFRESH-INTERVAL;VALUE=DURATION:PT1H
X-Robots-Tag:noindex
X-PUBLISHED-TTL:PT1H
BEGIN:VTIMEZONE
TZID:America/New_York
BEGIN:DAYLIGHT
TZOFFSETFROM:-0500
TZOFFSETTO:-0400
TZNAME:EDT
DTSTART:20250309T070000
END:DAYLIGHT
BEGIN:STANDARD
TZOFFSETFROM:-0400
TZOFFSETTO:-0500
TZNAME:EST
DTSTART:20251102T060000
END:STANDARD
BEGIN:DAYLIGHT
TZOFFSETFROM:-0500
TZOFFSETTO:-0400
TZNAME:EDT
DTSTART:20260308T070000
END:DAYLIGHT
BEGIN:STANDARD
TZOFFSETFROM:-0400
TZOFFSETTO:-0500
TZNAME:EST
DTSTART:20261101T060000
END:STANDARD
BEGIN:DAYLIGHT
TZOFFSETFROM:-0500
TZOFFSETTO:-0400
TZNAME:EDT
DTSTART:20270314T070000
END:DAYLIGHT
BEGIN:STANDARD
TZOFFSETFROM:-0400
TZOFFSETTO:-0500
TZNAME:EST
DTSTART:20271107T060000
END:STANDARD
END:VTIMEZONE
BEGIN:VEVENT
DTSTART;TZID=America/New_York:20260120T180000
DTEND;TZID=America/New_York:20260120T180000
DTSTAMP:20260425T122636
CREATED:20251219T190440Z
LAST-MODIFIED:20251219T190440Z
UID:10000896-1768932000-1768932000@www.immaculata.edu
SUMMARY:On the Road: Exton
DESCRIPTION:Join Susan Arnold\, Vice President for Institutional Advancement\, and fellow Immaculata University alumni for dinner! \nThis event offers an opportunity to network\, reconnect with the University\, and show your Immaculata pride. Invite your fellow alums to join you! \nFor questions or additional information\, please contact the Office of Alumni Relations: email alumnidept@Immaculata.edu or call 484-323-3927. \nRegister Now
URL:https://www.immaculata.edu/event/on-the-road-exton/
LOCATION:The ChopHouse Grille\, 301 North Pottstown Pike\, Exton\, PA\, 19341
CATEGORIES:On the Road
ATTACH;FMTTYPE=image/jpeg:https://www.immaculata.edu/wp-content/uploads/2025/12/ADV_2026-On-the-Road_WEB-800x600_JAN-20.jpg
END:VEVENT
BEGIN:VEVENT
DTSTART;TZID=America/New_York:20260122T120000
DTEND;TZID=America/New_York:20260122T120000
DTSTAMP:20260425T122636
CREATED:20251219T190654Z
LAST-MODIFIED:20251219T190654Z
UID:10000897-1769083200-1769083200@www.immaculata.edu
SUMMARY:On the Road: Lancaster. PA
DESCRIPTION:Join Susan Arnold\, Vice President for Institutional Advancement\, and fellow Immaculata University alumni for lunch! \nThis event offers an opportunity to network\, reconnect with the University\, and show your Immaculata pride. Invite your fellow alums to join you! \nFor questions or additional information\, please contact the Office of Alumni Relations: email alumnidept@Immaculata.edu or call 484-323-3927. \nRegister Now
URL:https://www.immaculata.edu/event/on-the-road-lancaster-pa-3/
LOCATION:Harvest Seasonal Grill Lancaster\, Shoppes at Belmont 1573 Fruitville Pike\, Lancaster\, PA\, 17601
CATEGORIES:On the Road
ATTACH;FMTTYPE=image/jpeg:https://www.immaculata.edu/wp-content/uploads/2025/12/ADV_2026-On-the-Road_WEB-800x600_JAN-22.jpg
END:VEVENT
BEGIN:VEVENT
DTSTART;TZID=America/New_York:20260124T100000
DTEND;TZID=America/New_York:20260124T140000
DTSTAMP:20260425T122636
CREATED:20251114T210908Z
LAST-MODIFIED:20260105T204901Z
UID:10000852-1769248800-1769263200@www.immaculata.edu
SUMMARY:Alumni Spiritual Retreat
DESCRIPTION:Unfortunately\, the 2026 Alumni Spiritual Retreat has been canceled due to unforeseen circumstances. \nAnyone who has registered may receive a full refund or opt to donate their registration to The Immaculata Fund. \nFor more information\, contact the Office of Alumni Relations at alumnidept@immaculata.edu or 484-323-3927.
URL:https://www.immaculata.edu/event/alumni-spiritual-retreat-2/
LOCATION:Immaculata University Green Room\, 1145 West King Rd\, Immaculata\, PA\, 19345\, United States
CATEGORIES:Alumni
ATTACH;FMTTYPE=image/jpeg:https://www.immaculata.edu/wp-content/uploads/2023/11/ADV_Spiritual-Retreat_WEB_11-23.jpg
END:VEVENT
BEGIN:VEVENT
DTSTART;TZID=America/New_York:20260129T180000
DTEND;TZID=America/New_York:20260129T180000
DTSTAMP:20260425T122636
CREATED:20251219T191008Z
LAST-MODIFIED:20251219T191008Z
UID:10000898-1769709600-1769709600@www.immaculata.edu
SUMMARY:On the Road: Newtown
DESCRIPTION:Join Susan Arnold\, Vice President for Institutional Advancement\, and fellow Immaculata University alumni for dinner! \nThis event offers an opportunity to network\, reconnect with the University\, and show your Immaculata pride. Invite your fellow alums to join you! \nFor questions or additional information\, please contact the Office of Alumni Relations: email alumnidept@Immaculata.edu or call 484-323-3927. \nRegister Now
URL:https://www.immaculata.edu/event/on-the-road-newtown/
LOCATION:The Capital Grille Newtown\, 2807 South Eagle Road\, Newtown\, PA\, 18940
CATEGORIES:On the Road
ATTACH;FMTTYPE=image/jpeg:https://www.immaculata.edu/wp-content/uploads/2025/12/ADV_2026-On-the-Road_WEB-800x600_JAN-29.jpg
END:VEVENT
END:VCALENDAR