BEGIN:VCALENDAR
VERSION:2.0
PRODID:-//Immaculata University - ECPv6.15.20//NONSGML v1.0//EN
CALSCALE:GREGORIAN
METHOD:PUBLISH
X-ORIGINAL-URL:https://www.immaculata.edu
X-WR-CALDESC:Events for Immaculata University
REFRESH-INTERVAL;VALUE=DURATION:PT1H
X-Robots-Tag:noindex
X-PUBLISHED-TTL:PT1H
BEGIN:VTIMEZONE
TZID:America/New_York
BEGIN:DAYLIGHT
TZOFFSETFROM:-0500
TZOFFSETTO:-0400
TZNAME:EDT
DTSTART:20220313T070000
END:DAYLIGHT
BEGIN:STANDARD
TZOFFSETFROM:-0400
TZOFFSETTO:-0500
TZNAME:EST
DTSTART:20221106T060000
END:STANDARD
BEGIN:DAYLIGHT
TZOFFSETFROM:-0500
TZOFFSETTO:-0400
TZNAME:EDT
DTSTART:20230312T070000
END:DAYLIGHT
BEGIN:STANDARD
TZOFFSETFROM:-0400
TZOFFSETTO:-0500
TZNAME:EST
DTSTART:20231105T060000
END:STANDARD
BEGIN:DAYLIGHT
TZOFFSETFROM:-0500
TZOFFSETTO:-0400
TZNAME:EDT
DTSTART:20240310T070000
END:DAYLIGHT
BEGIN:STANDARD
TZOFFSETFROM:-0400
TZOFFSETTO:-0500
TZNAME:EST
DTSTART:20241103T060000
END:STANDARD
BEGIN:DAYLIGHT
TZOFFSETFROM:-0500
TZOFFSETTO:-0400
TZNAME:EDT
DTSTART:20250309T070000
END:DAYLIGHT
BEGIN:STANDARD
TZOFFSETFROM:-0400
TZOFFSETTO:-0500
TZNAME:EST
DTSTART:20251102T060000
END:STANDARD
BEGIN:DAYLIGHT
TZOFFSETFROM:-0500
TZOFFSETTO:-0400
TZNAME:EDT
DTSTART:20260308T070000
END:DAYLIGHT
BEGIN:STANDARD
TZOFFSETFROM:-0400
TZOFFSETTO:-0500
TZNAME:EST
DTSTART:20261101T060000
END:STANDARD
BEGIN:DAYLIGHT
TZOFFSETFROM:-0500
TZOFFSETTO:-0400
TZNAME:EDT
DTSTART:20270314T070000
END:DAYLIGHT
BEGIN:STANDARD
TZOFFSETFROM:-0400
TZOFFSETTO:-0500
TZNAME:EST
DTSTART:20271107T060000
END:STANDARD
END:VTIMEZONE
BEGIN:VEVENT
DTSTART;TZID=America/New_York:20260420T110000
DTEND;TZID=America/New_York:20260420T130000
DTSTAMP:20260422T085104
CREATED:20260317T173114Z
LAST-MODIFIED:20260401T173317Z
UID:10000999-1776682800-1776690000@www.immaculata.edu
SUMMARY:Posters Under The Dome 2026
DESCRIPTION:Immaculata University is pleased to present undergraduate research with our Posters Under the Dome symposium. Our students\, from many academic departments\, have worked collaboratively with faculty members to conduct research\, analyze data\, prepare posters and prepare presentations for review. These student researchers are ready to engage in a question-and-answer portion of their work after presenting their research. \nPosters will be presented in Villa Maria. View the abstracts. \nFor more information contact:\nVeronica Cardiellos\, Graduate Assistant at osraradassist@mail.immaculata.edu
URL:https://www.immaculata.edu/event/posters-under-the-dome-2026/
LOCATION:Immaculata University Rotunda\, Villa Maria Hall
CATEGORIES:Academics,On Campus
ATTACH;FMTTYPE=image/jpeg:https://www.immaculata.edu/wp-content/uploads/2024/09/posters-under-the-dome.jpg
END:VEVENT
BEGIN:VEVENT
DTSTART;VALUE=DATE:20250518
DTEND;VALUE=DATE:20250519
DTSTAMP:20260422T085104
CREATED:20250205T200830Z
LAST-MODIFIED:20250407T150108Z
UID:10000540-1747526400-1747612799@www.immaculata.edu
SUMMARY:Commencement 2025
DESCRIPTION:Undergraduate Commencement \n(Associate and Bachelor’s Degree Graduates)\nSunday\, May 18\, 2025\, at 10 a.m. \nGraduate Commencement \n(Master and Doctoral Graduates)\nSunday\, May 18\, 2025\, at 2 p.m. \nVisit the commencement page for details.
URL:https://www.immaculata.edu/event/commencement-2025/
LOCATION:Immaculata University Alumnae Hall Theater
CATEGORIES:Academic Calendar,On Campus
ATTACH;FMTTYPE=image/jpeg:https://www.immaculata.edu/wp-content/uploads/2023/12/commencement-2023.jpg
GEO:40.0280909449;-75.57085477
END:VEVENT
BEGIN:VEVENT
DTSTART;TZID=America/New_York:20250427T150000
DTEND;TZID=America/New_York:20250427T160000
DTSTAMP:20260422T085104
CREATED:20250401T125130Z
LAST-MODIFIED:20250401T200854Z
UID:10000641-1745766000-1745769600@www.immaculata.edu
SUMMARY:Spring Honors Recognition
DESCRIPTION:Immaculata University will recognize undergraduate students who achieved Dean’s List honors during the Fall semester of 2024\, students being inducted into the IU Honor Society\, program honor societies\, freshman enrolled in the Honors Program\, and students who completed the Honors Program.
URL:https://www.immaculata.edu/event/spring-honors-recognition-2/
LOCATION:Immaculata University Alumnae Hall Theater
CATEGORIES:Academics,On Campus
GEO:40.0280909449;-75.57085477
END:VEVENT
BEGIN:VEVENT
DTSTART;TZID=America/New_York:20250407T110000
DTEND;TZID=America/New_York:20250407T130000
DTSTAMP:20260422T085104
CREATED:20240924T171408Z
LAST-MODIFIED:20250319T191727Z
UID:10000310-1744023600-1744030800@www.immaculata.edu
SUMMARY:Posters Under The Dome 2025
DESCRIPTION:Immaculata University is pleased to present undergraduate research with our Posters Under the Dome symposium. Our students\, from many academic departments\, have worked collaboratively with faculty members to conduct research\, analyze data\, prepare posters and prepare presentations for review. These student researchers are ready to engage in a question-and-answer portion of their work after presenting their research. \nPosters will be presented in Villa Maria. \nThe deadline for Intent to Participate in Posters Under The Dome by students is Friday\, January 31\, 2025. \nAbstracts and Posters are due on or before March 10\, 2025. \nFor More Information Contact:\nDr. Thomas F. O’Brien\, Director of Sponsored Research at tobrien@immaculata.edu or\nVeronica Cardiellos\, Graduate Assistant at osraradassist@mail.immaculata.edu
URL:https://www.immaculata.edu/event/posters-under-the-dome-2025/
LOCATION:Immaculata University Rotunda\, Villa Maria Hall
CATEGORIES:Academics,On Campus
ATTACH;FMTTYPE=image/jpeg:https://www.immaculata.edu/wp-content/uploads/2024/09/posters-under-the-dome.jpg
END:VEVENT
BEGIN:VEVENT
DTSTART;TZID=America/New_York:20241203T133000
DTEND;TZID=America/New_York:20241203T143000
DTSTAMP:20260422T085104
CREATED:20241118T125727Z
LAST-MODIFIED:20241118T130003Z
UID:10000380-1733232600-1733236200@www.immaculata.edu
SUMMARY:Freshman Year Seminar Showcase
DESCRIPTION:Please join the IU community in celebrating the success of our freshmen as they showcase their Freshman Year Seminar projects. \nWe will have over 60 groups informally presenting creative ways of how they addressed their wellness aspect of their course. Casually walk through and talk to the students about their project to show your support. \nLocation: Green Room to the Rotunda
URL:https://www.immaculata.edu/event/freshman-year-seminar-showcase-2/
LOCATION:Immaculata University Green Room\, 1145 West King Rd\, Immaculata\, PA\, 19345\, United States
CATEGORIES:Academics,On Campus
END:VEVENT
BEGIN:VEVENT
DTSTART;TZID=America/New_York:20241104T180000
DTEND;TZID=America/New_York:20241104T190000
DTSTAMP:20260422T085104
CREATED:20241021T144949Z
LAST-MODIFIED:20241021T144949Z
UID:10000347-1730743200-1730746800@www.immaculata.edu
SUMMARY:Manipulated: Inside the Cyber War to Hijack Elections and Distort the Truth
DESCRIPTION:In today’s digital age\, the systems we rely on—elections\, information\, and truth itself—are under attack. This lecture reveals how cyber warfare and disinformation campaigns are reshaping our world. From rogue states to hackers\, adversaries are no longer just targeting systems; they are distorting the truth. \nThis talk will explore the impact of these threats on individuals\, institutions\, and democracy\, offering real-life examples and practical insights on how we can protect ourselves. \nAs the first female to serve as White House chief information officer\, Theresa Major Payton ’89 is a visionary\, industry disruptor and a veteran cybercrime fighter who founded Fortalice Solutions. As president and CEO\, she has led Fortalice to become a leading national security company. Cybercrime Magazine listed it among the Global 500 Best Cybersecurity Companies. \nJoin the meeting on Zoom. \nMEETING ID: 943 8305 8324\nPASSCODE: 115869
URL:https://www.immaculata.edu/event/manipulated-inside-the-cyber-war-to-hijack-elections-and-distort-the-truth/
LOCATION:Online
CATEGORIES:Academics,On Campus
ATTACH;FMTTYPE=image/jpeg:https://www.immaculata.edu/wp-content/uploads/2024/10/payton-lecture.jpg
END:VEVENT
BEGIN:VEVENT
DTSTART;VALUE=DATE:20240704
DTEND;VALUE=DATE:20240705
DTSTAMP:20260422T085104
CREATED:20231219T143328Z
LAST-MODIFIED:20231219T143328Z
UID:10000089-1720051200-1720137599@www.immaculata.edu
SUMMARY:Independence Day
DESCRIPTION:University closed.
URL:https://www.immaculata.edu/event/independence-day/
CATEGORIES:Academic Calendar
END:VEVENT
BEGIN:VEVENT
DTSTART;VALUE=DATE:20240619
DTEND;VALUE=DATE:20240620
DTSTAMP:20260422T085104
CREATED:20231219T143239Z
LAST-MODIFIED:20231219T143239Z
UID:10000088-1718755200-1718841599@www.immaculata.edu
SUMMARY:Juneteenth
DESCRIPTION:University closed.
URL:https://www.immaculata.edu/event/juneteenth/
CATEGORIES:Academic Calendar
END:VEVENT
BEGIN:VEVENT
DTSTART;VALUE=DATE:20240527
DTEND;VALUE=DATE:20240528
DTSTAMP:20260422T085104
CREATED:20231219T143209Z
LAST-MODIFIED:20231219T143209Z
UID:10000087-1716768000-1716854399@www.immaculata.edu
SUMMARY:Memorial Day
DESCRIPTION:University closed.
URL:https://www.immaculata.edu/event/memorial-day/
CATEGORIES:Academic Calendar
END:VEVENT
BEGIN:VEVENT
DTSTART;TZID=America/New_York:20240519T100000
DTEND;TZID=America/New_York:20240519T100000
DTSTAMP:20260422T085104
CREATED:20231219T143115Z
LAST-MODIFIED:20250205T200903Z
UID:10000086-1716112800-1716112800@www.immaculata.edu
SUMMARY:Commencement
DESCRIPTION:100th Immaculata University Commencement Ceremony 2024 \nSunday\, May 19 at 10 a.m. \nThe commencement ceremony will be held on Immaculata’s Back Campus. The ceremony will be held rain or shine.  Graduates and guests may start arriving at 8:30 a.m. \nVisit the commencement page for details.
URL:https://www.immaculata.edu/event/commencement/
LOCATION:Immaculata University Back Campus
CATEGORIES:Academic Calendar,On Campus
ATTACH;FMTTYPE=image/jpeg:https://www.immaculata.edu/wp-content/uploads/2023/12/commencement-2023.jpg
GEO:40.0292482071;-75.5687282729
END:VEVENT
BEGIN:VEVENT
DTSTART;TZID=America/New_York:20240425T130000
DTEND;TZID=America/New_York:20240425T140000
DTSTAMP:20260422T085104
CREATED:20240416T151120Z
LAST-MODIFIED:20240416T151120Z
UID:10000224-1714050000-1714053600@www.immaculata.edu
SUMMARY:CNHP Research Poster Symposium
DESCRIPTION:Support the students from the College of Nursing and Health Professions and learn about their research projects.
URL:https://www.immaculata.edu/event/cnhp-research-poster-symposium/
LOCATION:Immaculata University Rotunda\, Villa Maria Hall
CATEGORIES:Academics,On Campus
END:VEVENT
BEGIN:VEVENT
DTSTART;TZID=America/New_York:20240423T130000
DTEND;TZID=America/New_York:20240423T140000
DTSTAMP:20260422T085104
CREATED:20240416T150829Z
LAST-MODIFIED:20240416T150829Z
UID:10000223-1713877200-1713880800@www.immaculata.edu
SUMMARY:IU Honors Research Symposium
DESCRIPTION:Immediately after the Posters Under the Dome event\, head over to Good Counsel to listen to presentations from IU Honors students. Students will present their research in four concurrent sessions in various classrooms in Good Counsel Hall. Faculty\, please consider attending some of the sessions and mentioning the event to your students.\nSession topics and room numbers are listed below. View the event program with a list of all presenters and their project titles/abstracts. \nRoom Session Title: \n\nGood Counsel 1 Power Dynamics and the Role of Self-Image\nGood Counsel 2 Power Imbalances\nGood Counsel 3 Power Dynamics and Human Nature\nGood Counsel 10 Power Dynamics in Health Care
URL:https://www.immaculata.edu/event/iu-honors-research-symposium/
LOCATION:Immaculata University Good Counsel Hall
CATEGORIES:Academics,On Campus
END:VEVENT
BEGIN:VEVENT
DTSTART;TZID=America/New_York:20240423T110000
DTEND;TZID=America/New_York:20240423T130000
DTSTAMP:20260422T085104
CREATED:20240208T204357Z
LAST-MODIFIED:20240416T172942Z
UID:10000167-1713870000-1713877200@www.immaculata.edu
SUMMARY:Posters Under the Dome
DESCRIPTION:Immaculata University is pleased to present undergraduate research with our Posters Under the Dome symposium. Our students\, from many academic departments\, have worked collaboratively with faculty members to conduct research\, analyze data\, prepare posters and prepare presentations for review. These student researchers are ready to engage in a question-and-answer portion of their work after presenting their research. \nPosters will be presented in the Villa Maria Rotunda (1st and 2nd floors) and the Green Room\, Music Room and Great Hall. \nWinners Announced\, Raffle Prizes\, and Light Refreshments in the Great Hall at 12:45 p.m. \nView abstracts of the research. \nFor More Information Contact:\nDr. Thomas F. O’Brien\, Director of Sponsored Research at tobrien@immaculata.edu or Anna Youhouse\, Graduate Assistant at gradasst@immaculata.edu
URL:https://www.immaculata.edu/event/posters-under-the-dome/
LOCATION:Immaculata University Rotunda\, Villa Maria Hall
CATEGORIES:Academics,On Campus
ATTACH;FMTTYPE=image/jpeg:https://www.immaculata.edu/wp-content/uploads/2024/02/posters-under-the-dome-23.jpg
END:VEVENT
BEGIN:VEVENT
DTSTART;VALUE=DATE:20240328
DTEND;VALUE=DATE:20240402
DTSTAMP:20260422T085104
CREATED:20231219T142541Z
LAST-MODIFIED:20231219T142541Z
UID:10000085-1711584000-1712015999@www.immaculata.edu
SUMMARY:Easter Break
DESCRIPTION:No face-to-face classes; university offices are closed. \nView the academic calendar for the full spring semester schedule.
URL:https://www.immaculata.edu/event/easter-break/
CATEGORIES:Academic Calendar
END:VEVENT
BEGIN:VEVENT
DTSTART;VALUE=DATE:20240304
DTEND;VALUE=DATE:20240309
DTSTAMP:20260422T085104
CREATED:20231219T142259Z
LAST-MODIFIED:20231219T142259Z
UID:10000084-1709510400-1709942399@www.immaculata.edu
SUMMARY:Spring Break
DESCRIPTION:University offices remain open during break. \nView the academic calendar for the full spring semester schedule.
URL:https://www.immaculata.edu/event/spring-break/
CATEGORIES:Academic Calendar
END:VEVENT
BEGIN:VEVENT
DTSTART;TZID=America/New_York:20240227T123000
DTEND;TZID=America/New_York:20240227T133000
DTSTAMP:20260422T085104
CREATED:20240226T201706Z
LAST-MODIFIED:20240226T201706Z
UID:10000174-1709037000-1709040600@www.immaculata.edu
SUMMARY:Understanding the World’s Conflicts
DESCRIPTION:With the second anniversary of the Russian War on Ukraine this month\, IU faculty members\, Dr. William Watson and Dr. George Schwartz will provide an update on that conflict\, as well as others around the world. This will include the Israel-Hamas war and how the U.S. and Iran are involved. Questions from students are encouraged. \nLoyola 127
URL:https://www.immaculata.edu/event/understanding-the-worlds-conflicts/
LOCATION:Immaculata University Loyola Hall\, Immaculata\, PA\, 19345
CATEGORIES:Academics,On Campus
GEO:40.0289259175;-75.5716814181
END:VEVENT
BEGIN:VEVENT
DTSTART;VALUE=DATE:20240116
DTEND;VALUE=DATE:20240117
DTSTAMP:20260422T085104
CREATED:20231219T142034Z
LAST-MODIFIED:20231219T142034Z
UID:10000083-1705363200-1705449599@www.immaculata.edu
SUMMARY:Classes Begin
DESCRIPTION:Spring semester classes begin. \nView the academic calendar for the full spring semester schedule.
URL:https://www.immaculata.edu/event/classes-begin/
CATEGORIES:Academic Calendar
END:VEVENT
BEGIN:VEVENT
DTSTART;VALUE=DATE:20240115
DTEND;VALUE=DATE:20240116
DTSTAMP:20260422T085104
CREATED:20231219T141809Z
LAST-MODIFIED:20231219T141809Z
UID:10000082-1705276800-1705363199@www.immaculata.edu
SUMMARY:Martin Luther King Jr. Day
DESCRIPTION:University closed for MLK Day. \nView the academic calendar for the full spring semester schedule.
URL:https://www.immaculata.edu/event/martin-luther-king-jr-day/
CATEGORIES:Academic Calendar
END:VEVENT
BEGIN:VEVENT
DTSTART;TZID=America/New_York:20231128T133000
DTEND;TZID=America/New_York:20231128T150000
DTSTAMP:20260422T085104
CREATED:20231116T140957Z
LAST-MODIFIED:20231116T142836Z
UID:10000066-1701178200-1701183600@www.immaculata.edu
SUMMARY:Freshman Year Seminar Showcase
DESCRIPTION:Please join the IU community in celebrating the success of our freshmen as they showcase their Freshman Year Seminar projects. We will have over 60 groups informally presenting creative ways of how they addressed their wellness aspect of their course. \nThe showcase takes place from the Green Room to the Rotunda. Casually walk through and talk to the students about their project to show your support.
URL:https://www.immaculata.edu/event/freshman-year-seminar-showcase/
LOCATION:Immaculata University Rotunda\, Villa Maria Hall
CATEGORIES:Academics,On Campus
END:VEVENT
END:VCALENDAR