BEGIN:VCALENDAR
VERSION:2.0
PRODID:-//Immaculata University - ECPv6.15.20//NONSGML v1.0//EN
CALSCALE:GREGORIAN
METHOD:PUBLISH
X-ORIGINAL-URL:https://www.immaculata.edu
X-WR-CALDESC:Events for Immaculata University
REFRESH-INTERVAL;VALUE=DURATION:PT1H
X-Robots-Tag:noindex
X-PUBLISHED-TTL:PT1H
BEGIN:VTIMEZONE
TZID:America/New_York
BEGIN:DAYLIGHT
TZOFFSETFROM:-0500
TZOFFSETTO:-0400
TZNAME:EDT
DTSTART:20250309T070000
END:DAYLIGHT
BEGIN:STANDARD
TZOFFSETFROM:-0400
TZOFFSETTO:-0500
TZNAME:EST
DTSTART:20251102T060000
END:STANDARD
BEGIN:DAYLIGHT
TZOFFSETFROM:-0500
TZOFFSETTO:-0400
TZNAME:EDT
DTSTART:20260308T070000
END:DAYLIGHT
BEGIN:STANDARD
TZOFFSETFROM:-0400
TZOFFSETTO:-0500
TZNAME:EST
DTSTART:20261101T060000
END:STANDARD
BEGIN:DAYLIGHT
TZOFFSETFROM:-0500
TZOFFSETTO:-0400
TZNAME:EDT
DTSTART:20270314T070000
END:DAYLIGHT
BEGIN:STANDARD
TZOFFSETFROM:-0400
TZOFFSETTO:-0500
TZNAME:EST
DTSTART:20271107T060000
END:STANDARD
END:VTIMEZONE
BEGIN:VEVENT
DTSTART;TZID=America/New_York:20260502T090000
DTEND;TZID=America/New_York:20260502T133000
DTSTAMP:20260425T061732
CREATED:20250425T144139Z
LAST-MODIFIED:20260408T181004Z
UID:10000666-1777712400-1777728600@www.immaculata.edu
SUMMARY:Saturday Campus Tours
DESCRIPTION:Thinking of visiting Immaculata University? Join us for a weekend campus tour! \nTours are available at 9 a.m.\, 10:30 a.m. and 12 p.m. \nRegister Now
URL:https://www.immaculata.edu/event/saturday-campus-tours-2/
LOCATION:Immaculata University\, 1145 King Rd\, Immaculata\, PA\, 19345
CATEGORIES:Undergraduate
END:VEVENT
BEGIN:VEVENT
DTSTART;TZID=America/New_York:20260502T190000
DTEND;TZID=America/New_York:20260502T210000
DTSTAMP:20260425T061732
CREATED:20250826T200212Z
LAST-MODIFIED:20250826T200212Z
UID:10000761-1777748400-1777755600@www.immaculata.edu
SUMMARY:Immaculata Symphony Concerto Concert
DESCRIPTION:The Immaculata Symphony partners with the MOXART organization to provide musicians the opportunity to perform a concerto with a full symphony orchestra. These outstanding musicians will perform either a selected movement of a concerto or perform the entire work. Check the Symphony’s website and/or join our email group for a list of participating soloists and an updated concert program. Ticket sales from this additional concert benefit the Eugene Buglio Memorial Symphony Scholarship. \nALL SEATS: $10\nStudents and children are free at all concerts.
URL:https://www.immaculata.edu/event/immaculata-symphony-concerto-concert-3/
LOCATION:Immaculata University Alumnae Hall Theater
CATEGORIES:On Campus
ATTACH;FMTTYPE=image/jpeg:https://www.immaculata.edu/wp-content/uploads/2023/11/immaculata-symphony.jpg
GEO:40.0280909449;-75.57085477
END:VEVENT
END:VCALENDAR