BEGIN:VCALENDAR
VERSION:2.0
PRODID:-//Immaculata University - ECPv6.15.20//NONSGML v1.0//EN
CALSCALE:GREGORIAN
METHOD:PUBLISH
X-WR-CALNAME:Immaculata University
X-ORIGINAL-URL:https://www.immaculata.edu
X-WR-CALDESC:Events for Immaculata University
REFRESH-INTERVAL;VALUE=DURATION:PT1H
X-Robots-Tag:noindex
X-PUBLISHED-TTL:PT1H
BEGIN:VTIMEZONE
TZID:America/New_York
BEGIN:DAYLIGHT
TZOFFSETFROM:-0500
TZOFFSETTO:-0400
TZNAME:EDT
DTSTART:20250309T070000
END:DAYLIGHT
BEGIN:STANDARD
TZOFFSETFROM:-0400
TZOFFSETTO:-0500
TZNAME:EST
DTSTART:20251102T060000
END:STANDARD
BEGIN:DAYLIGHT
TZOFFSETFROM:-0500
TZOFFSETTO:-0400
TZNAME:EDT
DTSTART:20260308T070000
END:DAYLIGHT
BEGIN:STANDARD
TZOFFSETFROM:-0400
TZOFFSETTO:-0500
TZNAME:EST
DTSTART:20261101T060000
END:STANDARD
BEGIN:DAYLIGHT
TZOFFSETFROM:-0500
TZOFFSETTO:-0400
TZNAME:EDT
DTSTART:20270314T070000
END:DAYLIGHT
BEGIN:STANDARD
TZOFFSETFROM:-0400
TZOFFSETTO:-0500
TZNAME:EST
DTSTART:20271107T060000
END:STANDARD
END:VTIMEZONE
BEGIN:VEVENT
DTSTART;TZID=America/New_York:20260430T153000
DTEND;TZID=America/New_York:20260430T170000
DTSTAMP:20260421T105701
CREATED:20260323T171822Z
LAST-MODIFIED:20260323T171822Z
UID:10001004-1777563000-1777568400@www.immaculata.edu
SUMMARY:Community Event with Dr. Temple Grandin
DESCRIPTION:Bringing Autism to the Forefront for Chester County \nRegistration is closed. \nSponsored by Chester County Intermediate Unit.
URL:https://www.immaculata.edu/event/community-event-with-dr-temple-grandin/2026-04-30/1/
LOCATION:Immaculata University Alumnae Hall Theater
CATEGORIES:On Campus
GEO:40.0280909449;-75.57085477
END:VEVENT
BEGIN:VEVENT
DTSTART;TZID=America/New_York:20260430T190000
DTEND;TZID=America/New_York:20260430T203000
DTSTAMP:20260421T105701
CREATED:20260323T171822Z
LAST-MODIFIED:20260323T171822Z
UID:10001005-1777575600-1777581000@www.immaculata.edu
SUMMARY:Community Event with Dr. Temple Grandin
DESCRIPTION:Bringing Autism to the Forefront for Chester County \nRegistration is closed. \nSponsored by Chester County Intermediate Unit.
URL:https://www.immaculata.edu/event/community-event-with-dr-temple-grandin/2026-04-30/2/
LOCATION:Immaculata University Alumnae Hall Theater
CATEGORIES:On Campus
GEO:40.0280909449;-75.57085477
END:VEVENT
END:VCALENDAR