BEGIN:VCALENDAR
VERSION:2.0
PRODID:-//Immaculata University - ECPv6.15.20//NONSGML v1.0//EN
CALSCALE:GREGORIAN
METHOD:PUBLISH
X-WR-CALNAME:Immaculata University
X-ORIGINAL-URL:https://www.immaculata.edu
X-WR-CALDESC:Events for Immaculata University
REFRESH-INTERVAL;VALUE=DURATION:PT1H
X-Robots-Tag:noindex
X-PUBLISHED-TTL:PT1H
BEGIN:VTIMEZONE
TZID:America/New_York
BEGIN:DAYLIGHT
TZOFFSETFROM:-0500
TZOFFSETTO:-0400
TZNAME:EDT
DTSTART:20250309T070000
END:DAYLIGHT
BEGIN:STANDARD
TZOFFSETFROM:-0400
TZOFFSETTO:-0500
TZNAME:EST
DTSTART:20251102T060000
END:STANDARD
BEGIN:DAYLIGHT
TZOFFSETFROM:-0500
TZOFFSETTO:-0400
TZNAME:EDT
DTSTART:20260308T070000
END:DAYLIGHT
BEGIN:STANDARD
TZOFFSETFROM:-0400
TZOFFSETTO:-0500
TZNAME:EST
DTSTART:20261101T060000
END:STANDARD
BEGIN:DAYLIGHT
TZOFFSETFROM:-0500
TZOFFSETTO:-0400
TZNAME:EDT
DTSTART:20270314T070000
END:DAYLIGHT
BEGIN:STANDARD
TZOFFSETFROM:-0400
TZOFFSETTO:-0500
TZNAME:EST
DTSTART:20271107T060000
END:STANDARD
END:VTIMEZONE
BEGIN:VEVENT
DTSTART;TZID=America/New_York:20260422T180000
DTEND;TZID=America/New_York:20260422T200000
DTSTAMP:20260421T122345
CREATED:20260416T112549Z
LAST-MODIFIED:20260416T112549Z
UID:10001033-1776880800-1776888000@www.immaculata.edu
SUMMARY:Campus Ministry Community Night: Students vs. Sisters Lawn Games
DESCRIPTION:Join us on for a BBQ dinner in Campus Ministry followed by lawn games on Back Campus! \nDinner will be at 6 p.m.\, followed by lawn games around 6:45 p.m. Hope to see you there!
URL:https://www.immaculata.edu/event/campus-ministry-community-night-students-vs-sisters-lawn-games/
LOCATION:Campus Ministry
CATEGORIES:On Campus
ATTACH;FMTTYPE=image/jpeg:https://www.immaculata.edu/wp-content/uploads/2026/04/Students-vs-Sisters-Lawn-Games-2026.jpg
END:VEVENT
END:VCALENDAR