BEGIN:VCALENDAR
VERSION:2.0
PRODID:-//Immaculata University - ECPv6.15.20//NONSGML v1.0//EN
CALSCALE:GREGORIAN
METHOD:PUBLISH
X-WR-CALNAME:Immaculata University
X-ORIGINAL-URL:https://www.immaculata.edu
X-WR-CALDESC:Events for Immaculata University
REFRESH-INTERVAL;VALUE=DURATION:PT1H
X-Robots-Tag:noindex
X-PUBLISHED-TTL:PT1H
BEGIN:VTIMEZONE
TZID:America/New_York
BEGIN:DAYLIGHT
TZOFFSETFROM:-0500
TZOFFSETTO:-0400
TZNAME:EDT
DTSTART:20250309T070000
END:DAYLIGHT
BEGIN:STANDARD
TZOFFSETFROM:-0400
TZOFFSETTO:-0500
TZNAME:EST
DTSTART:20251102T060000
END:STANDARD
BEGIN:DAYLIGHT
TZOFFSETFROM:-0500
TZOFFSETTO:-0400
TZNAME:EDT
DTSTART:20260308T070000
END:DAYLIGHT
BEGIN:STANDARD
TZOFFSETFROM:-0400
TZOFFSETTO:-0500
TZNAME:EST
DTSTART:20261101T060000
END:STANDARD
BEGIN:DAYLIGHT
TZOFFSETFROM:-0500
TZOFFSETTO:-0400
TZNAME:EDT
DTSTART:20270314T070000
END:DAYLIGHT
BEGIN:STANDARD
TZOFFSETFROM:-0400
TZOFFSETTO:-0500
TZNAME:EST
DTSTART:20271107T060000
END:STANDARD
END:VTIMEZONE
BEGIN:VEVENT
DTSTART;TZID=America/New_York:20260421T180000
DTEND;TZID=America/New_York:20260421T190000
DTSTAMP:20260423T060523
CREATED:20260414T173924Z
LAST-MODIFIED:20260414T173924Z
UID:10001029-1776794400-1776798000@www.immaculata.edu
SUMMARY:Virtual Information Session - Higher Education\, Ed.D. with Nursing Concentration
DESCRIPTION:The College of Graduate Studies is hosting a virtual information session for the Ed.D. in Higher Education with Nursing Concentration for those aspiring greater leadership roles within the nursing post-secondary/higher education environment. Please join us for a virtual information session with Sister Ann Heath\, program director\, and Dr. Angela Tekely\, program faculty\, for a program overview and Q&A session. Learn about our interactive online delivery model\, program concentrations\, upcoming enrollment opportunities\, and seamless admission process. \nThe event will be held through Zoom and last approximately 45 minutes.  Upon registration\, you will receive the session login information. \nIf you have any questions\, please contact Takeyda Williams\, at twilliams10@immaculata.edu or 484-323-3213. \nRegister Now
URL:https://www.immaculata.edu/event/virtual-information-session-higher-education-ed-d-with-nursing-concentration/
LOCATION:Online
CATEGORIES:Graduate
END:VEVENT
END:VCALENDAR