BEGIN:VCALENDAR
VERSION:2.0
PRODID:-//Immaculata University - ECPv6.15.20//NONSGML v1.0//EN
CALSCALE:GREGORIAN
METHOD:PUBLISH
X-ORIGINAL-URL:https://www.immaculata.edu
X-WR-CALDESC:Events for Immaculata University
REFRESH-INTERVAL;VALUE=DURATION:PT1H
X-Robots-Tag:noindex
X-PUBLISHED-TTL:PT1H
BEGIN:VTIMEZONE
TZID:America/New_York
BEGIN:DAYLIGHT
TZOFFSETFROM:-0500
TZOFFSETTO:-0400
TZNAME:EDT
DTSTART:20250309T070000
END:DAYLIGHT
BEGIN:STANDARD
TZOFFSETFROM:-0400
TZOFFSETTO:-0500
TZNAME:EST
DTSTART:20251102T060000
END:STANDARD
BEGIN:DAYLIGHT
TZOFFSETFROM:-0500
TZOFFSETTO:-0400
TZNAME:EDT
DTSTART:20260308T070000
END:DAYLIGHT
BEGIN:STANDARD
TZOFFSETFROM:-0400
TZOFFSETTO:-0500
TZNAME:EST
DTSTART:20261101T060000
END:STANDARD
BEGIN:DAYLIGHT
TZOFFSETFROM:-0500
TZOFFSETTO:-0400
TZNAME:EDT
DTSTART:20270314T070000
END:DAYLIGHT
BEGIN:STANDARD
TZOFFSETFROM:-0400
TZOFFSETTO:-0500
TZNAME:EST
DTSTART:20271107T060000
END:STANDARD
END:VTIMEZONE
BEGIN:VEVENT
DTSTART;TZID=America/New_York:20260318T090000
DTEND;TZID=America/New_York:20260318T104500
DTSTAMP:20260423T062036
CREATED:20260303T132243Z
LAST-MODIFIED:20260303T132243Z
UID:10000986-1773824400-1773830700@www.immaculata.edu
SUMMARY:Grab & Go Brew!
DESCRIPTION:Stop by on your way to class to enjoy a free iced coffee brought to you by Student Life!
URL:https://www.immaculata.edu/event/grab-go-brew/
LOCATION:Immaculata University Loyola Hall\, Immaculata\, PA\, 19345
CATEGORIES:On Campus
ATTACH;FMTTYPE=image/jpeg:https://www.immaculata.edu/wp-content/uploads/2026/03/Grab-Go-Brew-IG.jpg
GEO:40.0289259175;-75.5716814181
END:VEVENT
BEGIN:VEVENT
DTSTART;TZID=America/New_York:20260318T160000
DTEND;TZID=America/New_York:20260318T170000
DTSTAMP:20260423T062036
CREATED:20251017T142501Z
LAST-MODIFIED:20251017T142501Z
UID:10000823-1773849600-1773853200@www.immaculata.edu
SUMMARY:Graduate Virtual Open House
DESCRIPTION:You are invited to attend Immaculata University’s Virtual Graduate Open House to learn about our advanced degree and certificate programs in business\, education\, psychology\, health care\, and criminal justice. Please join our admission and financial aid representatives for a brief overview followed by break-out sessions specific to your program of interest.  You will have the opportunity to connect with our program directors to hear how our programs align with your professional and personal goals. \nThe event will be held through Zoom and will last approximately 45 minutes.  Upon registration\, you will receive login information for the session. \nIf you have any questions\, please contact Kristen Lebresco\, Assistant Director of Graduate Admission at klebresco@immaculata.edu or 484-323-3219. \nRegister Now
URL:https://www.immaculata.edu/event/graduate-virtual-open-house-6/
LOCATION:Online
CATEGORIES:Graduate
END:VEVENT
BEGIN:VEVENT
DTSTART;TZID=America/New_York:20260318T180000
DTEND;TZID=America/New_York:20260318T200000
DTSTAMP:20260423T062036
CREATED:20260313T133246Z
LAST-MODIFIED:20260313T133246Z
UID:10000993-1773856800-1773864000@www.immaculata.edu
SUMMARY:Campus Ministry Community Night: Carnival
DESCRIPTION:Join us for Campus Ministry’s first ever Carnival benefitting Catholic Relief Services’ Rice Bowl campaign. Stop by for some Mario Kart on the Wii\, lawn games\, board games\, and all of your favorite carnival foods! \nAdmission is $5 which can be paid with cash or card. \nHope you can join us!
URL:https://www.immaculata.edu/event/campus-ministry-community-night-carnival/
LOCATION:Campus Ministry
CATEGORIES:On Campus
ATTACH;FMTTYPE=image/jpeg:https://www.immaculata.edu/wp-content/uploads/2026/03/Community-Night-318-Game-Night.jpg
END:VEVENT
END:VCALENDAR