BEGIN:VCALENDAR
VERSION:2.0
PRODID:-//Immaculata University - ECPv6.15.20//NONSGML v1.0//EN
CALSCALE:GREGORIAN
METHOD:PUBLISH
X-WR-CALNAME:Immaculata University
X-ORIGINAL-URL:https://www.immaculata.edu
X-WR-CALDESC:Events for Immaculata University
REFRESH-INTERVAL;VALUE=DURATION:PT1H
X-Robots-Tag:noindex
X-PUBLISHED-TTL:PT1H
BEGIN:VTIMEZONE
TZID:America/New_York
BEGIN:DAYLIGHT
TZOFFSETFROM:-0500
TZOFFSETTO:-0400
TZNAME:EDT
DTSTART:20250309T070000
END:DAYLIGHT
BEGIN:STANDARD
TZOFFSETFROM:-0400
TZOFFSETTO:-0500
TZNAME:EST
DTSTART:20251102T060000
END:STANDARD
BEGIN:DAYLIGHT
TZOFFSETFROM:-0500
TZOFFSETTO:-0400
TZNAME:EDT
DTSTART:20260308T070000
END:DAYLIGHT
BEGIN:STANDARD
TZOFFSETFROM:-0400
TZOFFSETTO:-0500
TZNAME:EST
DTSTART:20261101T060000
END:STANDARD
BEGIN:DAYLIGHT
TZOFFSETFROM:-0500
TZOFFSETTO:-0400
TZNAME:EDT
DTSTART:20270314T070000
END:DAYLIGHT
BEGIN:STANDARD
TZOFFSETFROM:-0400
TZOFFSETTO:-0500
TZNAME:EST
DTSTART:20271107T060000
END:STANDARD
END:VTIMEZONE
BEGIN:VEVENT
DTSTART;TZID=America/New_York:20260303T090000
DTEND;TZID=America/New_York:20260303T130000
DTSTAMP:20260423T073501
CREATED:20250813T155116Z
LAST-MODIFIED:20260120T164033Z
UID:10000716-1772528400-1772542800@www.immaculata.edu
SUMMARY:Nutrition & Dietetics Shadow Day
DESCRIPTION:Join us for a Shadow Day and get an inside look at what it’s like to be a nutrition & dietetics student at Immaculata University. Spend the day alongside current IU students as you attend classes\, meet faculty\, and explore campus life. You’ll be escorted to and from each class and meeting by a current IU student or staff member\, and lunch is on us! \nThe agenda for this day is below: \n\n9:00am – Arrive at the Lillian P. Lettiere Center\n9:30am – 10:45am – FNU 212: Nutrition & Culture\n10:45am – 11:00am – Q&A with Dr. Heather Krick\, Assistant Professor & Director of DPD Program\n11:00am – 12:00pm – Campus Tour & Coffee at Immaculatte\n12:00pm – 12:30pm – Lunch\n12:45pm – Departure\n\nRegister Now
URL:https://www.immaculata.edu/event/nutrition-dietetics-shadow-day/
LOCATION:Immaculata University\, 1145 King Rd\, Immaculata\, PA\, 19345
CATEGORIES:Undergraduate
END:VEVENT
BEGIN:VEVENT
DTSTART;TZID=America/New_York:20260303T113000
DTEND;TZID=America/New_York:20260303T133000
DTSTAMP:20260423T073501
CREATED:20260225T135254Z
LAST-MODIFIED:20260225T135254Z
UID:10000982-1772537400-1772544600@www.immaculata.edu
SUMMARY:IU Mini Health Event Part 2
DESCRIPTION:Join IU Community Health Nursing Students for IU Mini Health Event-Part 2.
URL:https://www.immaculata.edu/event/iu-mini-health-event-part-2/
LOCATION:Immaculata University Nazareth Dining Hall
CATEGORIES:On Campus
ATTACH;FMTTYPE=image/jpeg:https://www.immaculata.edu/wp-content/uploads/2026/02/tabling-event-part-2.jpg
ORGANIZER;CN="student wellness":MAILTO:ssherry@ immaculata.edu
GEO:40.0290995678;-75.5695798758
END:VEVENT
END:VCALENDAR